BEGIN:VCALENDAR
VERSION:2.0
PRODID:-//Art Club of Oak Run - ECPv6.15.20//NONSGML v1.0//EN
CALSCALE:GREGORIAN
METHOD:PUBLISH
X-ORIGINAL-URL:https://acor.club
X-WR-CALDESC:Events for Art Club of Oak Run
REFRESH-INTERVAL;VALUE=DURATION:PT1H
X-Robots-Tag:noindex
X-PUBLISHED-TTL:PT1H
BEGIN:VTIMEZONE
TZID:UTC
BEGIN:STANDARD
TZOFFSETFROM:+0000
TZOFFSETTO:+0000
TZNAME:UTC
DTSTART:20240101T000000
END:STANDARD
END:VTIMEZONE
BEGIN:VEVENT
DTSTART;TZID=UTC:20250205T093000
DTEND;TZID=UTC:20250205T113000
DTSTAMP:20260425T215814
CREATED:20250116T184540Z
LAST-MODIFIED:20250116T184542Z
UID:1750-1738747800-1738755000@acor.club
SUMMARY:Beach Grass
DESCRIPTION:(Casual Wednesday\, 2/5\, 9:30-11:30am\, Island Club) \n\n\n\n\nYou can bring your own ideas or use one of the three options we provide for beach grass scenes. Chris Rossavik will host. \n\n\n\n\n— BRING– Paper and your normal medium.
URL:https://acor.club/calendar/beach-grass
LOCATION:OAK RUN’S ISLAND CLUB
CATEGORIES:Event
ATTACH;FMTTYPE=image/jpeg:https://acor.club/wp-content/uploads/2025/01/baltic-sea-4136488_1280-Pixabay.jpg
END:VEVENT
END:VCALENDAR