BEGIN:VCALENDAR
VERSION:2.0
PRODID:-//Art Club of Oak Run - ECPv6.15.20//NONSGML v1.0//EN
CALSCALE:GREGORIAN
METHOD:PUBLISH
X-ORIGINAL-URL:https://acor.club
X-WR-CALDESC:Events for Art Club of Oak Run
REFRESH-INTERVAL;VALUE=DURATION:PT1H
X-Robots-Tag:noindex
X-PUBLISHED-TTL:PT1H
BEGIN:VTIMEZONE
TZID:UTC
BEGIN:STANDARD
TZOFFSETFROM:+0000
TZOFFSETTO:+0000
TZNAME:UTC
DTSTART:20240101T000000
END:STANDARD
END:VTIMEZONE
BEGIN:VEVENT
DTSTART;TZID=UTC:20250225T093000
DTEND;TZID=UTC:20250225T113000
DTSTAMP:20260425T202342
CREATED:20241206T211224Z
LAST-MODIFIED:20250208T194626Z
UID:1726-1740475800-1740483000@acor.club
SUMMARY:CLASS: Old Boat & Dock #1
DESCRIPTION:(4 Tuesdays\, 2/25 to 3/18/2025\, 9:30-11:30am\, Island Club) \n\n\n\n\nLionel Sanchez will teach everyone how to paint an old boat and dock at the edge of a river in watercolor. We’ll all work from the same photo to come up with our version\, with Lionel demonstrating and helping as we paint. \n\n\n\n\n— BRING– Items on the supplies list.  \n\n\n\nSupply ListDownload\n\n\n\nReference ImageDownload
URL:https://acor.club/calendar/class-watercolor-boat-1
LOCATION:OAK RUN’S ISLAND CLUB
CATEGORIES:Class
ATTACH;FMTTYPE=image/jpeg:https://acor.club/wp-content/uploads/2024/12/IMG_0057-a-scaled.jpg
END:VEVENT
END:VCALENDAR