BEGIN:VCALENDAR
VERSION:2.0
PRODID:-//Art Club of Oak Run - ECPv6.15.20//NONSGML v1.0//EN
CALSCALE:GREGORIAN
METHOD:PUBLISH
X-ORIGINAL-URL:https://acor.club
X-WR-CALDESC:Events for Art Club of Oak Run
REFRESH-INTERVAL;VALUE=DURATION:PT1H
X-Robots-Tag:noindex
X-PUBLISHED-TTL:PT1H
BEGIN:VTIMEZONE
TZID:UTC
BEGIN:STANDARD
TZOFFSETFROM:+0000
TZOFFSETTO:+0000
TZNAME:UTC
DTSTART:20240101T000000
END:STANDARD
END:VTIMEZONE
BEGIN:VEVENT
DTSTART;TZID=UTC:20250402T080000
DTEND;TZID=UTC:20250402T120000
DTSTAMP:20260425T184651
CREATED:20250309T204717Z
LAST-MODIFIED:20250309T204718Z
UID:1808-1743580800-1743595200@acor.club
SUMMARY:CLASS: Create/Use Stencils #2
DESCRIPTION:(Wednesday\, 4/2/2025\, 9am-Noon\, Island Club) \n\n\n\n\n— NOTE: This class starts earlier and ends later than usual. — \n\n\n\nIN PROGRESS — Darla Goldberg is teaching us how to use stencils to enhance our artwork and how to create our own unique stencils. \n\n\n\n\n— BRING — Items on the supply list.
URL:https://acor.club/calendar/class-create-use-stencils-2
LOCATION:OAK RUN’S ISLAND CLUB
CATEGORIES:Class
ATTACH;FMTTYPE=image/jpeg:https://acor.club/wp-content/uploads/2025/03/Darla-Goldberg.jpg
END:VEVENT
END:VCALENDAR