BEGIN:VCALENDAR
VERSION:2.0
PRODID:-//Art Club of Oak Run - ECPv6.15.20//NONSGML v1.0//EN
CALSCALE:GREGORIAN
METHOD:PUBLISH
X-WR-CALNAME:Art Club of Oak Run
X-ORIGINAL-URL:https://acor.club
X-WR-CALDESC:Events for Art Club of Oak Run
REFRESH-INTERVAL;VALUE=DURATION:PT1H
X-Robots-Tag:noindex
X-PUBLISHED-TTL:PT1H
BEGIN:VTIMEZONE
TZID:UTC
BEGIN:STANDARD
TZOFFSETFROM:+0000
TZOFFSETTO:+0000
TZNAME:UTC
DTSTART:20240101T000000
END:STANDARD
END:VTIMEZONE
BEGIN:VEVENT
DTSTART;TZID=UTC:20250416T093000
DTEND;TZID=UTC:20250416T120000
DTSTAMP:20260425T184522
CREATED:20250318T212249Z
LAST-MODIFIED:20250407T133708Z
UID:1817-1744795800-1744804800@acor.club
SUMMARY:April Monthly Mtg
DESCRIPTION:(Wednesday\, 4/16\, 9:30am-Noon\, Island Club) Light refreshments will be provided. \n\n\n\n\nPresentation — CJ Westrick will demonstrate how to create cradleboards and tins with your artwork. Cradleboards are wood surfaces with sides and the artwork is either just on the top or wrapped around the sides\, too. They can be hung without further framing. The tins are small tin boxes with the artwork on the lid. \n\n\n\n\n— Show and Tell — Please bring in and display (A) your challenge artwork\, (B) any and all artwork you have completed or (C) any art that has received an award since our last Monthly Meeting. Your artwork will be displayed and you’ll briefly describe it.
URL:https://acor.club/calendar/april-monthly-mtg
LOCATION:OAK RUN’S ISLAND CLUB
CATEGORIES:Event
ATTACH;FMTTYPE=image/jpeg:https://acor.club/wp-content/uploads/2023/07/ACOR-Mtg-e1708356356178.jpg
END:VEVENT
END:VCALENDAR