BEGIN:VCALENDAR
VERSION:2.0
PRODID:-//Art Club of Oak Run - ECPv6.15.20//NONSGML v1.0//EN
CALSCALE:GREGORIAN
METHOD:PUBLISH
X-WR-CALNAME:Art Club of Oak Run
X-ORIGINAL-URL:https://acor.club
X-WR-CALDESC:Events for Art Club of Oak Run
REFRESH-INTERVAL;VALUE=DURATION:PT1H
X-Robots-Tag:noindex
X-PUBLISHED-TTL:PT1H
BEGIN:VTIMEZONE
TZID:UTC
BEGIN:STANDARD
TZOFFSETFROM:+0000
TZOFFSETTO:+0000
TZNAME:UTC
DTSTART:20240101T000000
END:STANDARD
END:VTIMEZONE
BEGIN:VEVENT
DTSTART;TZID=UTC:20250521T093000
DTEND;TZID=UTC:20250521T120000
DTSTAMP:20260425T170431
CREATED:20250407T133523Z
LAST-MODIFIED:20250407T133525Z
UID:1851-1747819800-1747828800@acor.club
SUMMARY:May Monthly Meeting
DESCRIPTION:(Wednesday\, 5/21\, 9:30am-Noon\, Island Club) Light refreshments will be provided. \n\n\n\n\nPresentation:  Elena Mahoney is a watercolorist who works frequently with the World Equestrian Center and local art groups. She will be doing a demonstration of her watercolor clouds. \n\n\n\n\n— Show and Tell — Please bring in and display (A) your challenge artwork\, (B) any and all artwork you have completed or (C) any art that has received an award since our last Monthly Meeting.
URL:https://acor.club/calendar/may-monthly-meeting-2
LOCATION:OAK RUN’S ISLAND CLUB
CATEGORIES:Event
ATTACH;FMTTYPE=image/jpeg:https://acor.club/wp-content/uploads/2023/07/ACOR-Mtg-e1708356356178.jpg
END:VEVENT
END:VCALENDAR