BEGIN:VCALENDAR
VERSION:2.0
PRODID:-//Art Club of Oak Run - ECPv6.15.20//NONSGML v1.0//EN
CALSCALE:GREGORIAN
METHOD:PUBLISH
X-WR-CALNAME:Art Club of Oak Run
X-ORIGINAL-URL:https://acor.club
X-WR-CALDESC:Events for Art Club of Oak Run
REFRESH-INTERVAL;VALUE=DURATION:PT1H
X-Robots-Tag:noindex
X-PUBLISHED-TTL:PT1H
BEGIN:VTIMEZONE
TZID:UTC
BEGIN:STANDARD
TZOFFSETFROM:+0000
TZOFFSETTO:+0000
TZNAME:UTC
DTSTART:20240101T000000
END:STANDARD
END:VTIMEZONE
BEGIN:VEVENT
DTSTART;TZID=UTC:20250625T093000
DTEND;TZID=UTC:20250625T113000
DTSTAMP:20260425T133835
CREATED:20250513T190059Z
LAST-MODIFIED:20250527T193347Z
UID:1866-1750843800-1750851000@acor.club
SUMMARY:Wildflowers
DESCRIPTION:(Casual WEDNESDAY\, 6/25\, 9:30-11:30am\, Island Club) \n\n\n\n\nEveryone seems to love painting flowers and wildflowers offer their own special look. Karen Cavanaugh will provide a choice of 3 different photo references. Join us for this challenging and fun day. \n\n\n\n— BRING — Paper and your normal medium.
URL:https://acor.club/calendar/wildflowers
LOCATION:OAK RUN’S ISLAND CLUB
CATEGORIES:Event
ATTACH;FMTTYPE=image/jpeg:https://acor.club/wp-content/uploads/2025/05/wild-carrot-flowers-5476094_1280-Pixabay.jpg
END:VEVENT
END:VCALENDAR