BEGIN:VCALENDAR
VERSION:2.0
PRODID:-//Art Club of Oak Run - ECPv6.15.20//NONSGML v1.0//EN
CALSCALE:GREGORIAN
METHOD:PUBLISH
X-ORIGINAL-URL:https://acor.club
X-WR-CALDESC:Events for Art Club of Oak Run
REFRESH-INTERVAL;VALUE=DURATION:PT1H
X-Robots-Tag:noindex
X-PUBLISHED-TTL:PT1H
BEGIN:VTIMEZONE
TZID:UTC
BEGIN:STANDARD
TZOFFSETFROM:+0000
TZOFFSETTO:+0000
TZNAME:UTC
DTSTART:20240101T000000
END:STANDARD
END:VTIMEZONE
BEGIN:VEVENT
DTSTART;TZID=UTC:20250729T093000
DTEND;TZID=UTC:20250729T113000
DTSTAMP:20260423T172307
CREATED:20250727T144044Z
LAST-MODIFIED:20250727T184129Z
UID:1892-1753781400-1753788600@acor.club
SUMMARY:Speed Sketching
DESCRIPTION:(Casual TUESDAY\, 7/29\, 9:30-11:30am\, Island Club) \n\n\n\n\nThis is another techniques session where we’ll practice sketching (rather than tracing). Join us for this challenging and fun day. Mary Romary will host. \n\n\n\n—BRING– Paper / pen and drawing paper.
URL:https://acor.club/calendar/speed-sketching
LOCATION:OAK RUN’S ISLAND CLUB
CATEGORIES:Event
ATTACH;FMTTYPE=image/jpeg:https://acor.club/wp-content/uploads/2025/07/mike-tinnion-3ym6i13Y9LU-unsplash-scaled.jpg
END:VEVENT
END:VCALENDAR