BEGIN:VCALENDAR
VERSION:2.0
PRODID:-//Art Club of Oak Run - ECPv6.15.20//NONSGML v1.0//EN
CALSCALE:GREGORIAN
METHOD:PUBLISH
X-ORIGINAL-URL:https://acor.club
X-WR-CALDESC:Events for Art Club of Oak Run
REFRESH-INTERVAL;VALUE=DURATION:PT1H
X-Robots-Tag:noindex
X-PUBLISHED-TTL:PT1H
BEGIN:VTIMEZONE
TZID:UTC
BEGIN:STANDARD
TZOFFSETFROM:+0000
TZOFFSETTO:+0000
TZNAME:UTC
DTSTART:20240101T000000
END:STANDARD
END:VTIMEZONE
BEGIN:VEVENT
DTSTART;TZID=UTC:20250903T093000
DTEND;TZID=UTC:20250903T113000
DTSTAMP:20260425T102622
CREATED:20250706T210318Z
LAST-MODIFIED:20250727T155456Z
UID:1908-1756891800-1756899000@acor.club
SUMMARY:Value Sketches
DESCRIPTION:(Casual WEDNESDAY\, 9/3\, 9:30-11:30am\, Island Club) \n\n\n\n\nEvery professional artist seems to do value sketches prior to painting. We’ll work on some value sketches so we all better understand why doing this can result in a better painting. CJ Westrick will host. \n\n\n\n—BRING– Drawing supplies.
URL:https://acor.club/calendar/value-sketches
LOCATION:OAK RUN’S ISLAND CLUB
CATEGORIES:Event
ATTACH;FMTTYPE=image/jpeg:https://acor.club/wp-content/uploads/2025/07/fons-heijnsbroek-SZ3tB2Vb7VQ-unsplash-scaled.jpg
END:VEVENT
END:VCALENDAR