BEGIN:VCALENDAR
VERSION:2.0
PRODID:-//Art Club of Oak Run - ECPv6.15.20//NONSGML v1.0//EN
CALSCALE:GREGORIAN
METHOD:PUBLISH
X-ORIGINAL-URL:https://acor.club
X-WR-CALDESC:Events for Art Club of Oak Run
REFRESH-INTERVAL;VALUE=DURATION:PT1H
X-Robots-Tag:noindex
X-PUBLISHED-TTL:PT1H
BEGIN:VTIMEZONE
TZID:UTC
BEGIN:STANDARD
TZOFFSETFROM:+0000
TZOFFSETTO:+0000
TZNAME:UTC
DTSTART:20240101T000000
END:STANDARD
END:VTIMEZONE
BEGIN:VEVENT
DTSTART;TZID=UTC:20250912T000000
DTEND;TZID=UTC:20250913T235959
DTSTAMP:20260425T102622
CREATED:20250706T210524Z
LAST-MODIFIED:20250727T155734Z
UID:1910-1757635200-1757807999@acor.club
SUMMARY:FWS Convention
DESCRIPTION:(FRIDAY-SATURDAY\, 9/12-13\, Orlando) \n\n\n\n\nConsider taking a couple of your painting friends and drive down to Orlando for the Florida Watercolor Society’s 2025 Convention. Learn more on their website: https://floridawatercolorsociety.org/page-18182
URL:https://acor.club/calendar/open-painting-this-week
CATEGORIES:Of Note
ATTACH;FMTTYPE=image/png:https://acor.club/wp-content/uploads/2025/07/FWS-larger-title-2.png
END:VEVENT
END:VCALENDAR