BEGIN:VCALENDAR
VERSION:2.0
PRODID:-//Art Club of Oak Run - ECPv6.15.20//NONSGML v1.0//EN
CALSCALE:GREGORIAN
METHOD:PUBLISH
X-WR-CALNAME:Art Club of Oak Run
X-ORIGINAL-URL:https://acor.club
X-WR-CALDESC:Events for Art Club of Oak Run
REFRESH-INTERVAL;VALUE=DURATION:PT1H
X-Robots-Tag:noindex
X-PUBLISHED-TTL:PT1H
BEGIN:VTIMEZONE
TZID:UTC
BEGIN:STANDARD
TZOFFSETFROM:+0000
TZOFFSETTO:+0000
TZNAME:UTC
DTSTART:20240101T000000
END:STANDARD
END:VTIMEZONE
BEGIN:VEVENT
DTSTART;TZID=UTC:20250917T093000
DTEND;TZID=UTC:20250917T120000
DTSTAMP:20260425T102503
CREATED:20250706T210757Z
LAST-MODIFIED:20250706T210759Z
UID:1912-1758101400-1758110400@acor.club
SUMMARY:Sept. Monthly Meeting
DESCRIPTION:(Wednesday\, 9/17\, 9:30a-Noon\, Island Club)Light refreshments will be provided. \n\n\n\n\nPresentation — We will have a recap of what was learned at the Florida Watercolor Society. Heather Doherty will discuss and show us what she learned in Matthew Bird’s 4-day workshop about “Lessons in Realistic Watercolor: Still Life.” Dori Sullivan and CJ Westrick will discuss and show what they learned in Kathleen Giles’ 4-day workshop about “Creating Depth and Drama in Watercolor.” \n\n\n\n\n— Show and Tell — Please bring in and display (A) your challenge artwork\, (B) any and all artwork you have completed (including anything from classes) or (C) any art that has received an award since our last Monthly Meeting.
URL:https://acor.club/calendar/sept-monthly-meeting-2
LOCATION:OAK RUN’S ISLAND CLUB
CATEGORIES:Event
ATTACH;FMTTYPE=image/jpeg:https://acor.club/wp-content/uploads/2023/07/ACOR-Mtg-e1708356356178.jpg
END:VEVENT
END:VCALENDAR