BEGIN:VCALENDAR
VERSION:2.0
PRODID:-//Art Club of Oak Run - ECPv6.15.20//NONSGML v1.0//EN
CALSCALE:GREGORIAN
METHOD:PUBLISH
X-ORIGINAL-URL:https://acor.club
X-WR-CALDESC:Events for Art Club of Oak Run
REFRESH-INTERVAL;VALUE=DURATION:PT1H
X-Robots-Tag:noindex
X-PUBLISHED-TTL:PT1H
BEGIN:VTIMEZONE
TZID:UTC
BEGIN:STANDARD
TZOFFSETFROM:+0000
TZOFFSETTO:+0000
TZNAME:UTC
DTSTART:20240101T000000
END:STANDARD
END:VTIMEZONE
BEGIN:VEVENT
DTSTART;TZID=UTC:20250924T093000
DTEND;TZID=UTC:20250924T113000
DTSTAMP:20260425T102623
CREATED:20250727T183256Z
LAST-MODIFIED:20250825T130840Z
UID:1930-1758706200-1758713400@acor.club
SUMMARY:Mailboxes
DESCRIPTION:(Casual WEDNESDAY\, 9/24\, 9:30-11:30am\, Island Club) \n\n\n\n\nHow many times have you taken a road where you’ve seen a row of interesting mailboxes? Now is your chance to paint them with Dori Sullivan as your host. \n\n\n\n—BRING– Paper and your normal medium.
URL:https://acor.club/calendar/mailboxes
LOCATION:OAK RUN’S ISLAND CLUB
CATEGORIES:Event
ATTACH;FMTTYPE=image/jpeg:https://acor.club/wp-content/uploads/2025/07/nikolay-loubet-b12IBsX54dU-unsplash-scaled.jpg
END:VEVENT
END:VCALENDAR