BEGIN:VCALENDAR
VERSION:2.0
PRODID:-//Art Club of Oak Run - ECPv6.15.20//NONSGML v1.0//EN
CALSCALE:GREGORIAN
METHOD:PUBLISH
X-ORIGINAL-URL:https://acor.club
X-WR-CALDESC:Events for Art Club of Oak Run
REFRESH-INTERVAL;VALUE=DURATION:PT1H
X-Robots-Tag:noindex
X-PUBLISHED-TTL:PT1H
BEGIN:VTIMEZONE
TZID:UTC
BEGIN:STANDARD
TZOFFSETFROM:+0000
TZOFFSETTO:+0000
TZNAME:UTC
DTSTART:20240101T000000
END:STANDARD
END:VTIMEZONE
BEGIN:VEVENT
DTSTART;TZID=UTC:20251015T093000
DTEND;TZID=UTC:20251015T120000
DTSTAMP:20260420T104515
CREATED:20250706T211020Z
LAST-MODIFIED:20250825T131517Z
UID:1914-1760520600-1760529600@acor.club
SUMMARY:Oct. Monthly Meeting
DESCRIPTION:(Wednesday\, 10/15\, 9:30a-Noon\, Island Club)  Light refreshments will be provided. \n\n\n\n\nPresentation — ACOR will hold it’s 2nd Annual Paint Around. We will have 5 of our member artists start a painting\, then every 10 minutes the painting moves to the next person. The original artist will have a final 10 minutes to finish off their work. This is a lot of fun and very interesting to see how other artists add to each painting. \n\n\n\n\n— Show and Tell — Please bring in and display (A) your challenge artwork\, (B) any and all artwork you have completed (including anything from classes) or (C) any art that has received an award since our last Monthly Meeting.
URL:https://acor.club/calendar/oct-monthly-meeting
LOCATION:OAK RUN’S ISLAND CLUB
CATEGORIES:Event
ATTACH;FMTTYPE=image/jpeg:https://acor.club/wp-content/uploads/2023/07/ACOR-Mtg-e1708356356178.jpg
END:VEVENT
END:VCALENDAR