BEGIN:VCALENDAR
VERSION:2.0
PRODID:-//Art Club of Oak Run - ECPv6.15.20//NONSGML v1.0//EN
CALSCALE:GREGORIAN
METHOD:PUBLISH
X-WR-CALNAME:Art Club of Oak Run
X-ORIGINAL-URL:https://acor.club
X-WR-CALDESC:Events for Art Club of Oak Run
REFRESH-INTERVAL;VALUE=DURATION:PT1H
X-Robots-Tag:noindex
X-PUBLISHED-TTL:PT1H
BEGIN:VTIMEZONE
TZID:UTC
BEGIN:STANDARD
TZOFFSETFROM:+0000
TZOFFSETTO:+0000
TZNAME:UTC
DTSTART:20240101T000000
END:STANDARD
END:VTIMEZONE
BEGIN:VEVENT
DTSTART;TZID=UTC:20251029T093000
DTEND;TZID=UTC:20251029T113000
DTSTAMP:20260421T110606
CREATED:20250825T131358Z
LAST-MODIFIED:20250825T131439Z
UID:1956-1761730200-1761737400@acor.club
SUMMARY:Outhouses
DESCRIPTION:(Casual WEDNESDAY\, 10/29\, 9:30-11:30am\, Island Club) \n\n\n\n\nHome sweet home! Join us to make artistic versions of the favorite room in the “house.” You can choose between the pictures provided by Sharon Becker or create your own version.  \n\n\n\n— BRING — Your normal supplies.
URL:https://acor.club/calendar/outhouses
LOCATION:OAK RUN’S ISLAND CLUB
CATEGORIES:Event
ATTACH;FMTTYPE=image/jpeg:https://acor.club/wp-content/uploads/2025/08/joshua-manjgo-vUHae6HOpVU-unsplash-scaled.jpg
END:VEVENT
END:VCALENDAR