BEGIN:VCALENDAR
VERSION:2.0
PRODID:-//Art Club of Oak Run - ECPv6.15.20//NONSGML v1.0//EN
CALSCALE:GREGORIAN
METHOD:PUBLISH
X-WR-CALNAME:Art Club of Oak Run
X-ORIGINAL-URL:https://acor.club
X-WR-CALDESC:Events for Art Club of Oak Run
REFRESH-INTERVAL;VALUE=DURATION:PT1H
X-Robots-Tag:noindex
X-PUBLISHED-TTL:PT1H
BEGIN:VTIMEZONE
TZID:UTC
BEGIN:STANDARD
TZOFFSETFROM:+0000
TZOFFSETTO:+0000
TZNAME:UTC
DTSTART:20240101T000000
END:STANDARD
END:VTIMEZONE
BEGIN:VEVENT
DTSTART;TZID=UTC:20251216T113000
DTEND;TZID=UTC:20251216T130000
DTSTAMP:20260423T104714
CREATED:20251027T193641Z
LAST-MODIFIED:20251120T144831Z
UID:2040-1765884600-1765890000@acor.club
SUMMARY:ACOR Holiday Luncheon
DESCRIPTION:(Tuesday\, 12/16\, 11:30a-1p\, Oak Room) \n\n\n\n\nOur annual holiday luncheon is open to members AND their spouse or significant other (if you choose to invite them). Join us for a cheery holiday lunch at the Oak Room! Everyone pays for their own meal/drink. \n\n\n\nRSVP to CJ (cj@cjwestrick.com) before Mon\, December 1st!
URL:https://acor.club/calendar/acor-holiday-luncheon-2
LOCATION:Oak Room
CATEGORIES:Event
ATTACH;FMTTYPE=image/jpeg:https://acor.club/wp-content/uploads/2023/10/ING_19061_185011-scaled-e1698082129233.jpg
END:VEVENT
END:VCALENDAR