BEGIN:VCALENDAR
VERSION:2.0
PRODID:-//Art Club of Oak Run - ECPv6.15.20//NONSGML v1.0//EN
CALSCALE:GREGORIAN
METHOD:PUBLISH
X-ORIGINAL-URL:https://acor.club
X-WR-CALDESC:Events for Art Club of Oak Run
REFRESH-INTERVAL;VALUE=DURATION:PT1H
X-Robots-Tag:noindex
X-PUBLISHED-TTL:PT1H
BEGIN:VTIMEZONE
TZID:UTC
BEGIN:STANDARD
TZOFFSETFROM:+0000
TZOFFSETTO:+0000
TZNAME:UTC
DTSTART:20240101T000000
END:STANDARD
END:VTIMEZONE
BEGIN:VEVENT
DTSTART;TZID=UTC:20251217T093000
DTEND;TZID=UTC:20251217T120000
DTSTAMP:20260421T094520
CREATED:20251012T211805Z
LAST-MODIFIED:20251012T211825Z
UID:1998-1765963800-1765972800@acor.club
SUMMARY:December Monthly Meeting
DESCRIPTION:(Wednesday\, 12/17\, 9:30-Noon\, Island Club)Light refreshments provided \n\n\n\n\nPresentation — Sean Mullins will demonstrate his Florida Highwayman-style of a landscape oil painting. Sean will return in February for a one-day class with us (all supplies included). \n\n\n\n— Show and Tell — Please bring in and display (A) your challenge artwork\, (B) any and all artwork you have completed (including anything from classes) or (C) any art that has received an award since our last Monthly Meeting.
URL:https://acor.club/calendar/december-monthly-meeting-2
LOCATION:OAK RUN’S ISLAND CLUB
CATEGORIES:Event
ATTACH;FMTTYPE=image/jpeg:https://acor.club/wp-content/uploads/2023/07/ACOR-Mtg-e1708356356178.jpg
END:VEVENT
END:VCALENDAR