BEGIN:VCALENDAR
VERSION:2.0
PRODID:-//Art Club of Oak Run - ECPv6.15.20//NONSGML v1.0//EN
CALSCALE:GREGORIAN
METHOD:PUBLISH
X-WR-CALNAME:Art Club of Oak Run
X-ORIGINAL-URL:https://acor.club
X-WR-CALDESC:Events for Art Club of Oak Run
REFRESH-INTERVAL;VALUE=DURATION:PT1H
X-Robots-Tag:noindex
X-PUBLISHED-TTL:PT1H
BEGIN:VTIMEZONE
TZID:UTC
BEGIN:STANDARD
TZOFFSETFROM:+0000
TZOFFSETTO:+0000
TZNAME:UTC
DTSTART:20250101T000000
END:STANDARD
END:VTIMEZONE
BEGIN:VEVENT
DTSTART;TZID=UTC:20260310T093000
DTEND;TZID=UTC:20260310T113000
DTSTAMP:20260421T094325
CREATED:20251013T181457Z
LAST-MODIFIED:20251013T181458Z
UID:2027-1773135000-1773142200@acor.club
SUMMARY:CLASS -Paint Your Dream #2
DESCRIPTION:Kim Shields continues with this very interesting watercolor class. As artists (regardless of skill level)\, we often dream about a picture we don’t yet feel capable of painting. Your dream is about to come true!  Kim will share how he thinks through a painting and provide insights and advice for our dream images. The result will be a painting of your dream image\, plus the information and hands-on experience that will continue to help you with future paintings.
URL:https://acor.club/calendar/class-paint-your-dream-2
LOCATION:OAK RUN’S ISLAND CLUB
CATEGORIES:Class
ATTACH;FMTTYPE=image/jpeg:https://acor.club/wp-content/uploads/2025/10/Kim-Shields.jpg
END:VEVENT
END:VCALENDAR