BEGIN:VCALENDAR
VERSION:2.0
PRODID:-//Art Club of Oak Run - ECPv6.15.20//NONSGML v1.0//EN
CALSCALE:GREGORIAN
METHOD:PUBLISH
X-WR-CALNAME:Art Club of Oak Run
X-ORIGINAL-URL:https://acor.club
X-WR-CALDESC:Events for Art Club of Oak Run
REFRESH-INTERVAL;VALUE=DURATION:PT1H
X-Robots-Tag:noindex
X-PUBLISHED-TTL:PT1H
BEGIN:VTIMEZONE
TZID:UTC
BEGIN:STANDARD
TZOFFSETFROM:+0000
TZOFFSETTO:+0000
TZNAME:UTC
DTSTART:20240101T000000
END:STANDARD
END:VTIMEZONE
BEGIN:VEVENT
DTSTART;TZID=UTC:20250304T093000
DTEND;TZID=UTC:20250304T113000
DTSTAMP:20260425T184651
CREATED:20240304T211651Z
LAST-MODIFIED:20250116T184216Z
UID:1729-1741080600-1741087800@acor.club
SUMMARY:CLASS: Old Boat & Dock #2
DESCRIPTION:(Tuesday\, 3/4/2025\, 9:30-11:30am\, Island Club) \n\n\n\n\nIN PROGRESS — Lionel Sanchez will teach everyone how to paint an old boat and dock at the edge of a river in watercolor. We’ll all work from the same photo to come up with our version\, with Lionel demonstrating and helping as we paint.
URL:https://acor.club/calendar/class-watercolor-boat-2
LOCATION:OAK RUN’S ISLAND CLUB
CATEGORIES:Class
ATTACH;FMTTYPE=image/jpeg:https://acor.club/wp-content/uploads/2024/12/IMG_0057-a-scaled.jpg
END:VEVENT
BEGIN:VEVENT
DTSTART;TZID=UTC:20250305T093000
DTEND;TZID=UTC:20250305T113000
DTSTAMP:20260425T184651
CREATED:20250116T185232Z
LAST-MODIFIED:20250116T185233Z
UID:1760-1741167000-1741174200@acor.club
SUMMARY:Tulips
DESCRIPTION:(Casual Wednesday\, 3/5\, 9:30-11:30am\, Island Club) \n\n\n\n\nCreate your artwork from one of the three options provided or bring your own. Judi Snow will host. \n\n\n\n\n—BRING– Paper and your normal medium.
URL:https://acor.club/calendar/tulips
LOCATION:OAK RUN’S ISLAND CLUB
CATEGORIES:Event
ATTACH;FMTTYPE=image/jpeg:https://acor.club/wp-content/uploads/2025/01/tulips-6211603_1280-Pixabay.jpg
END:VEVENT
BEGIN:VEVENT
DTSTART;TZID=UTC:20250311T093000
DTEND;TZID=UTC:20250311T113000
DTSTAMP:20260425T184651
CREATED:20241206T211928Z
LAST-MODIFIED:20250116T184156Z
UID:1732-1741685400-1741692600@acor.club
SUMMARY:CLASS: Old Boat & Dock #3
DESCRIPTION:(Tuesday\, 3/11/2025\, 9:30-11:30am\, Island Club) \n\n\n\n\nIN PROGRESS — Lionel Sanchez will teach everyone how to paint an old boat and dock at the edge of a river in watercolor. We’ll all work from the same photo to come up with our version\, with Lionel demonstrating and helping as we paint.
URL:https://acor.club/calendar/class-watercolor-boat-3
LOCATION:OAK RUN’S ISLAND CLUB
CATEGORIES:Class
ATTACH;FMTTYPE=image/jpeg:https://acor.club/wp-content/uploads/2024/12/IMG_0057-a-scaled.jpg
END:VEVENT
BEGIN:VEVENT
DTSTART;TZID=UTC:20250312T093000
DTEND;TZID=UTC:20250312T113000
DTSTAMP:20260425T184651
CREATED:20250116T185445Z
LAST-MODIFIED:20250116T185446Z
UID:1763-1741771800-1741779000@acor.club
SUMMARY:Beach Huts
DESCRIPTION:(Casual Wednesday\, 3/12\, 9:30-11:30am\, Island Club) \n\n\n\n\nDream of sitting on the beach and create your artwork from one of the three options provided or bring your own. Ginger Bryers will host. \n\n\n\n\n—BRING– Paper and your normal medium.
URL:https://acor.club/calendar/beach-huts
LOCATION:OAK RUN’S ISLAND CLUB
CATEGORIES:Event
ATTACH;FMTTYPE=image/jpeg:https://acor.club/wp-content/uploads/2025/01/beach-425167_1280-Pixabay.jpg
END:VEVENT
BEGIN:VEVENT
DTSTART;TZID=UTC:20250318T093000
DTEND;TZID=UTC:20250318T113000
DTSTAMP:20260425T184651
CREATED:20241206T212255Z
LAST-MODIFIED:20250116T184233Z
UID:1735-1742290200-1742297400@acor.club
SUMMARY:CLASS: Old Boat & Dock #4
DESCRIPTION:(Tuesday\, 3/18/2025\, 9:30-11:30am\, Island Club) \n\n\n\n\nIN PROGRESS — Lionel Sanchez will teach everyone how to paint an old boat and dock at the edge of a river in watercolor. We’ll all work from the same photo to come up with our version\, with Lionel demonstrating and helping as we paint.
URL:https://acor.club/calendar/class-watercolor-boat-4
LOCATION:OAK RUN’S ISLAND CLUB
CATEGORIES:Class
ATTACH;FMTTYPE=image/jpeg:https://acor.club/wp-content/uploads/2024/12/IMG_0057-a-scaled.jpg
END:VEVENT
BEGIN:VEVENT
DTSTART;TZID=UTC:20250319T093000
DTEND;TZID=UTC:20250319T113000
DTSTAMP:20260425T184651
CREATED:20241206T212546Z
LAST-MODIFIED:20250318T212409Z
UID:1737-1742376600-1742383800@acor.club
SUMMARY:March Monthly Meeting
DESCRIPTION:(Wednesday 3/19\, 9:30-11:30am\, Island Club) Light refreshments will be provided. \n\n\n\n\nPresentation – SALE SALE SALE! Bring your money because we will be selling (at a big discount) all our donated items\, which includes Arches full sheets of paper\, etc. that we’ll be selling for 20% of value. Members are encouraged to also bring any art supplies you might like to swap or sell to other members. \n\n\n\nWe will also be reviewing our Fine Arts Show so be prepared with your comments. \n\n\n\n\n— Show and Tell — Please bring in and display (A) your challenge artwork\, (B) any and all artwork you have completed or (C) any art that has received an award since our last Monthly Meeting. Your artwork will be displayed and you’ll briefly describe it.
URL:https://acor.club/calendar/march-monthly-meeting-2
LOCATION:OAK RUN’S ISLAND CLUB
CATEGORIES:Event
ATTACH;FMTTYPE=image/jpeg:https://acor.club/wp-content/uploads/2023/07/ACOR-Mtg-e1708356356178.jpg
END:VEVENT
BEGIN:VEVENT
DTSTART;TZID=UTC:20250325T093000
DTEND;TZID=UTC:20250325T113000
DTSTAMP:20260425T184651
CREATED:20250116T185651Z
LAST-MODIFIED:20250116T185654Z
UID:1766-1742895000-1742902200@acor.club
SUMMARY:Rusty Truck
DESCRIPTION:(Casual TUESDAY\, 3/25\, 9:30-11:30am\, Island Club) \n\n\n\n\nYour vehicle may look better than this but the three options provided for rusty trucks will challenge you. Heather Doherty will host. \n\n\n\n\n—BRING– Paper and your normal medium.
URL:https://acor.club/calendar/rusty-truck
LOCATION:OAK RUN’S ISLAND CLUB
CATEGORIES:Event
ATTACH;FMTTYPE=image/jpeg:https://acor.club/wp-content/uploads/2025/01/old-55463_1280-Pixabay.jpg
END:VEVENT
BEGIN:VEVENT
DTSTART;TZID=UTC:20250326T090000
DTEND;TZID=UTC:20250326T120000
DTSTAMP:20260425T184651
CREATED:20250309T204003Z
LAST-MODIFIED:20250309T204755Z
UID:1801-1742979600-1742990400@acor.club
SUMMARY:CLASS: Create/Use Stencils #1
DESCRIPTION:(2 Wednesdays\, 3/26 & 4/2/2025\, 9am-Noon\, Island Club) \n\n\n\n\n— NOTE: This class starts earlier and ends later than usual. — \n\n\n\nDarla Goldberg will teach us how to use stencils to enhance our artwork and how to create our own unique stencils. \n\n\n\n\n— BRING — Items on the supply list (available by 3/17).
URL:https://acor.club/calendar/class-stencils-in-artwork-1
LOCATION:OAK RUN’S ISLAND CLUB
CATEGORIES:Class
ATTACH;FMTTYPE=image/jpeg:https://acor.club/wp-content/uploads/2025/03/Darla-Goldberg.jpg
END:VEVENT
END:VCALENDAR