BEGIN:VCALENDAR
VERSION:2.0
PRODID:-//Art Club of Oak Run - ECPv6.15.20//NONSGML v1.0//EN
CALSCALE:GREGORIAN
METHOD:PUBLISH
X-ORIGINAL-URL:https://acor.club
X-WR-CALDESC:Events for Art Club of Oak Run
REFRESH-INTERVAL;VALUE=DURATION:PT1H
X-Robots-Tag:noindex
X-PUBLISHED-TTL:PT1H
BEGIN:VTIMEZONE
TZID:UTC
BEGIN:STANDARD
TZOFFSETFROM:+0000
TZOFFSETTO:+0000
TZNAME:UTC
DTSTART:20240101T000000
END:STANDARD
END:VTIMEZONE
BEGIN:VEVENT
DTSTART;TZID=UTC:20250506T093000
DTEND;TZID=UTC:20250506T113000
DTSTAMP:20260425T152443
CREATED:20250318T213331Z
LAST-MODIFIED:20250318T213336Z
UID:1826-1746523800-1746531000@acor.club
SUMMARY:Shadows
DESCRIPTION:(Tuesday\, 5/6\, 9:30-11:30am\, Island Club) \n\n\n\n\nShadows are everywhere and a major part of watercolor painting\, in particular. Regardless of your medium\, you need to know how to add believable and beautiful shadows to your artwork. \n\n\n\n\n— BRING — Your normal medium and paper.
URL:https://acor.club/calendar/shadows
LOCATION:OAK RUN’S ISLAND CLUB
CATEGORIES:Event
ATTACH;FMTTYPE=image/jpeg:https://acor.club/wp-content/uploads/2025/03/alyona-yankovska-LbvBAnlFFys-unsplash.jpg
END:VEVENT
BEGIN:VEVENT
DTSTART;TZID=UTC:20250513T093000
DTEND;TZID=UTC:20250513T113000
DTSTAMP:20260425T152443
CREATED:20250406T204833Z
LAST-MODIFIED:20250406T213259Z
UID:1832-1747128600-1747135800@acor.club
SUMMARY:Fabric Folds
DESCRIPTION:(Casual TUESDAY\, 5/13\, 9:30-11:30am\, Island Club) \n\n\n\n\nWhether it’s fabric or the land\, you need to understand how to create the shading that shows the folds and movement. You’ll have your choice of 3 different photo references. Join us for this challenging and fun day.  \n\n\n\n— BRING — Paper and your usual medium.
URL:https://acor.club/calendar/fabric-folds
LOCATION:OAK RUN’S ISLAND CLUB
CATEGORIES:Event
ATTACH;FMTTYPE=image/jpeg:https://acor.club/wp-content/uploads/2025/04/fabric-5259683_1280-Pixabay.jpg
END:VEVENT
BEGIN:VEVENT
DTSTART;TZID=UTC:20250521T093000
DTEND;TZID=UTC:20250521T120000
DTSTAMP:20260425T152443
CREATED:20250407T133523Z
LAST-MODIFIED:20250407T133525Z
UID:1851-1747819800-1747828800@acor.club
SUMMARY:May Monthly Meeting
DESCRIPTION:(Wednesday\, 5/21\, 9:30am-Noon\, Island Club) Light refreshments will be provided. \n\n\n\n\nPresentation:  Elena Mahoney is a watercolorist who works frequently with the World Equestrian Center and local art groups. She will be doing a demonstration of her watercolor clouds. \n\n\n\n\n— Show and Tell — Please bring in and display (A) your challenge artwork\, (B) any and all artwork you have completed or (C) any art that has received an award since our last Monthly Meeting.
URL:https://acor.club/calendar/may-monthly-meeting-2
LOCATION:OAK RUN’S ISLAND CLUB
CATEGORIES:Event
ATTACH;FMTTYPE=image/jpeg:https://acor.club/wp-content/uploads/2023/07/ACOR-Mtg-e1708356356178.jpg
END:VEVENT
BEGIN:VEVENT
DTSTART;TZID=UTC:20250528T093000
DTEND;TZID=UTC:20250528T113000
DTSTAMP:20260425T152443
CREATED:20250406T212555Z
LAST-MODIFIED:20250527T193453Z
UID:1835-1748424600-1748431800@acor.club
SUMMARY:Elephants
DESCRIPTION:(Casual WEDNESDAY\, 5/28\, 9:30-11:30am\, Island Club) \n\n\n\n\nEveryone seems to love elephants and now is your chance to create a painting using one of 3 photo references provided by Heather Doherty. Join us for this or to work on your own project. \n\n\n\n–BRING– Paper and your normal medium.
URL:https://acor.club/calendar/elephants
LOCATION:OAK RUN’S ISLAND CLUB
CATEGORIES:Event
ATTACH;FMTTYPE=image/jpeg:https://acor.club/wp-content/uploads/2025/04/elephant-3690978_1280-Pixabay.jpg
END:VEVENT
END:VCALENDAR