BEGIN:VCALENDAR
VERSION:2.0
PRODID:-//Art Club of Oak Run - ECPv6.15.20//NONSGML v1.0//EN
CALSCALE:GREGORIAN
METHOD:PUBLISH
X-ORIGINAL-URL:https://acor.club
X-WR-CALDESC:Events for Art Club of Oak Run
REFRESH-INTERVAL;VALUE=DURATION:PT1H
X-Robots-Tag:noindex
X-PUBLISHED-TTL:PT1H
BEGIN:VTIMEZONE
TZID:UTC
BEGIN:STANDARD
TZOFFSETFROM:+0000
TZOFFSETTO:+0000
TZNAME:UTC
DTSTART:20240101T000000
END:STANDARD
END:VTIMEZONE
BEGIN:VEVENT
DTSTART;TZID=UTC:20250701T093000
DTEND;TZID=UTC:20250701T113000
DTSTAMP:20260425T102648
CREATED:20250513T190253Z
LAST-MODIFIED:20250527T193304Z
UID:1869-1751362200-1751369400@acor.club
SUMMARY:Insects
DESCRIPTION:(Casual TUESDAY\, 7/1\, 9:30-11:30am\, Island Club) \n\n\n\n\nA lot of insects are very pretty and colorful when viewed up close. It will be exciting to see what you do with your choice of 3 different photo references. Sharon Becker will host. Join us for this challenging and fun day. \n\n\n\n— BRING — Paper and your normal medium.
URL:https://acor.club/calendar/insects
LOCATION:OAK RUN’S ISLAND CLUB
CATEGORIES:Event
ATTACH;FMTTYPE=image/jpeg:https://acor.club/wp-content/uploads/2025/05/grasshopper-2655486_1280-Pixabay.jpg
END:VEVENT
BEGIN:VEVENT
DTSTART;TZID=UTC:20250708T093000
DTEND;TZID=UTC:20250708T113000
DTSTAMP:20260425T102648
CREATED:20250513T190451Z
LAST-MODIFIED:20250527T193235Z
UID:1872-1751967000-1751974200@acor.club
SUMMARY:Coffee Plus
DESCRIPTION:(Casual TUESDAY\, 7/8\, 9:30-11:30am\, Island Club) \n\n\n\n\nYou don’t have to be a coffee drinker to have fun with your choice of 3 different photo references. Join Heather Doherty for this week’s challenge. \n\n\n\n— BRING — Paper and your normal medium.
URL:https://acor.club/calendar/coffee-plus
LOCATION:OAK RUN’S ISLAND CLUB
CATEGORIES:Event
ATTACH;FMTTYPE=image/jpeg:https://acor.club/wp-content/uploads/2025/05/justus-menke-_waK0qpdvm0-unsplash-scaled.jpg
END:VEVENT
BEGIN:VEVENT
DTSTART;TZID=UTC:20250716T113000
DTEND;TZID=UTC:20250716T130000
DTSTAMP:20260425T102648
CREATED:20250428T202059Z
LAST-MODIFIED:20250706T204738Z
UID:1857-1752665400-1752670800@acor.club
SUMMARY:July Monthly Meeting
DESCRIPTION:(Wednesday\, 7/16\, 11:30a LUNCH). \n\n\n\n\nACOR LUNCHEON! We’ll have lunch together in the Oak Room. (Yes\, it’s much quieter in there since they installed carpeting!) This will be a fun and relaxing time to enjoy ourselves. Members will be responsible for their own meal. \n\n\n\nBRING YOUR SHOW AND TELL! While we won’t be able to set up our show-and-tell on tables at the restaurant\, we can still pass our artwork around for viewing. So please bring in (A) your challenge artwork\, (B) any and all artwork you have completed (including anything from classes) or (C) any art that has received an award since our last Monthly Meeting.
URL:https://acor.club/calendar/july-monthly-meeting-2
LOCATION:Oak Room
CATEGORIES:Event
ATTACH;FMTTYPE=image/jpeg:https://acor.club/wp-content/uploads/2023/07/ACOR-Mtg-e1708356356178.jpg
END:VEVENT
BEGIN:VEVENT
DTSTART;TZID=UTC:20250722T093000
DTEND;TZID=UTC:20250722T113000
DTSTAMP:20260425T102648
CREATED:20250513T190648Z
LAST-MODIFIED:20250527T193202Z
UID:1875-1753176600-1753183800@acor.club
SUMMARY:Berries
DESCRIPTION:(Casual TUESDAY\, 7/22\, 9:30-11:30am\, Island Club) \n\n\n\n\nWhile you can’t eat these berries\, you can enjoy trying to paint them with your choice of 3 different photo references provided by Judi Snow. Join us for this week’s challenge. \n\n\n\n— BRING — Paper and your normal medium.
URL:https://acor.club/calendar/berries
LOCATION:OAK RUN’S ISLAND CLUB
CATEGORIES:Event
ATTACH;FMTTYPE=image/jpeg:https://acor.club/wp-content/uploads/2025/05/strawberry-142353_1280-Pixabay.jpg
END:VEVENT
BEGIN:VEVENT
DTSTART;TZID=UTC:20250729T093000
DTEND;TZID=UTC:20250729T113000
DTSTAMP:20260425T102648
CREATED:20250727T144044Z
LAST-MODIFIED:20250727T184129Z
UID:1892-1753781400-1753788600@acor.club
SUMMARY:Speed Sketching
DESCRIPTION:(Casual TUESDAY\, 7/29\, 9:30-11:30am\, Island Club) \n\n\n\n\nThis is another techniques session where we’ll practice sketching (rather than tracing). Join us for this challenging and fun day. Mary Romary will host. \n\n\n\n—BRING– Paper / pen and drawing paper.
URL:https://acor.club/calendar/speed-sketching
LOCATION:OAK RUN’S ISLAND CLUB
CATEGORIES:Event
ATTACH;FMTTYPE=image/jpeg:https://acor.club/wp-content/uploads/2025/07/mike-tinnion-3ym6i13Y9LU-unsplash-scaled.jpg
END:VEVENT
END:VCALENDAR