BEGIN:VCALENDAR
VERSION:2.0
PRODID:-//Art Club of Oak Run - ECPv6.15.20//NONSGML v1.0//EN
CALSCALE:GREGORIAN
METHOD:PUBLISH
X-ORIGINAL-URL:https://acor.club
X-WR-CALDESC:Events for Art Club of Oak Run
REFRESH-INTERVAL;VALUE=DURATION:PT1H
X-Robots-Tag:noindex
X-PUBLISHED-TTL:PT1H
BEGIN:VTIMEZONE
TZID:UTC
BEGIN:STANDARD
TZOFFSETFROM:+0000
TZOFFSETTO:+0000
TZNAME:UTC
DTSTART:20240101T000000
END:STANDARD
END:VTIMEZONE
BEGIN:VEVENT
DTSTART;TZID=UTC:20251104T093000
DTEND;TZID=UTC:20251104T113000
DTSTAMP:20260423T174018
CREATED:20250727T185055Z
LAST-MODIFIED:20250727T185057Z
UID:1943-1762248600-1762255800@acor.club
SUMMARY:CLASS -Navigating Watercolor #2
DESCRIPTION:(Tuesdays\, 11/4-18\, 9:30-11:30am\, Island Club) \n\n\n\n\nPAID CLASS CONTINUES — Sue Primeau is a long-time favorite instructor at ACOR. She will show us how to gain confidence with our watercolor skills and be more comfortable creating our next paintings. We’ll master the 4 key ways to paint that are the cornerstone to all watercolor paintings. It’s time to grab a life preserver and jump into 4 instructor-led projects designed for fun and ease. Tips\, tricks\, and techniques will be provided along with foundational information.
URL:https://acor.club/calendar/class-navigating-watercolor-2
LOCATION:OAK RUN’S ISLAND CLUB
CATEGORIES:Class
ATTACH;FMTTYPE=image/jpeg:https://acor.club/wp-content/uploads/2024/01/Sue-Primeau.jpg
END:VEVENT
BEGIN:VEVENT
DTSTART;TZID=UTC:20251105T093000
DTEND;TZID=UTC:20251105T113000
DTSTAMP:20260423T174018
CREATED:20251012T205848Z
LAST-MODIFIED:20251012T211042Z
UID:1983-1762335000-1762342200@acor.club
SUMMARY:Fireplaces
DESCRIPTION:We don’t need the heat from a fireplace but the flames are still hypnotic. Join us for a hot session! \n\n\n\n–BRING–  Your normal supplies.
URL:https://acor.club/calendar/fireplaces
LOCATION:OAK RUN’S ISLAND CLUB
CATEGORIES:Event
ATTACH;FMTTYPE=image/jpeg:https://acor.club/wp-content/uploads/2025/10/ray-shrewsberry-AXRYB88LAXs-unsplash-scaled.jpg
END:VEVENT
BEGIN:VEVENT
DTSTART;TZID=UTC:20251111T093000
DTEND;TZID=UTC:20251111T233000
DTSTAMP:20260423T174018
CREATED:20250727T185530Z
LAST-MODIFIED:20250727T185532Z
UID:1945-1762853400-1762903800@acor.club
SUMMARY:CLASS -Navigating Watercolor #3
DESCRIPTION:(Tuesdays\, 11/11-11/18\, 9:30-11:30am\, Island Club) \n\n\n\n\nPAID CLASS CONTINUES – Sue Primeau is a long-time favorite instructor at ACOR. She will show us how to gain confidence with our watercolor skills and be more comfortable creating our next paintings. We’ll master the 4 key ways to paint that are the cornerstone to all watercolor paintings. It’s time to grab a life preserver and jump into 4 instructor-led projects designed for fun and ease. Tips\, tricks\, and techniques will be provided along with foundational information.
URL:https://acor.club/calendar/class-navigating-watercolor-3
LOCATION:OAK RUN’S ISLAND CLUB
CATEGORIES:Class
ATTACH;FMTTYPE=image/jpeg:https://acor.club/wp-content/uploads/2024/01/Sue-Primeau.jpg
END:VEVENT
BEGIN:VEVENT
DTSTART;TZID=UTC:20251118T093000
DTEND;TZID=UTC:20251118T113000
DTSTAMP:20260423T174018
CREATED:20250727T185751Z
LAST-MODIFIED:20250727T185752Z
UID:1947-1763458200-1763465400@acor.club
SUMMARY:CLASS -Navigating Watercolor #4
DESCRIPTION:(Tuesday\, 11/18\, 9:30-11:30am\, Island Club) \n\n\n\n\nPAID CLASS CONTINUES – Sue Primeau is a long-time favorite instructor at ACOR. She will show us how to gain confidence with our watercolor skills and be more comfortable creating our next paintings. We’ll master the 4 key ways to paint that are the cornerstone to all watercolor paintings. It’s time to grab a life preserver and jump into 4 instructor-led projects designed for fun and ease. Tips\, tricks\, and techniques will be provided along with foundational information
URL:https://acor.club/calendar/class-navigating-watercolor-4
LOCATION:OAK RUN’S ISLAND CLUB
CATEGORIES:Class
ATTACH;FMTTYPE=image/jpeg:https://acor.club/wp-content/uploads/2024/01/Sue-Primeau.jpg
END:VEVENT
BEGIN:VEVENT
DTSTART;TZID=UTC:20251119T093000
DTEND;TZID=UTC:20251119T120000
DTSTAMP:20260423T174018
CREATED:20250727T190051Z
LAST-MODIFIED:20250825T195607Z
UID:1949-1763544600-1763553600@acor.club
SUMMARY:November Monthly Mtg
DESCRIPTION:(Wednesday\, 11/19\, 9:30a-Noon\, Island Club)Light refreshments will be provided. \n\n\n\n\nPresentation — Darla Goldberg will demonstrate her beautiful watercolor cat with the big eyes. Darla’s specialty is photo realistic eyes based on her professional history as an oculist who designed prosthetic eyes. She’ll return in December with a class on eyes\, both human and animal. \n\n\n\n— Show and Tell — Please bring in and display (A) your challenge artwork\, (B) any and all artwork you have completed (including anything from classes) or (C) any art that has received an award since our last Monthly Meeting.
URL:https://acor.club/calendar/november-monthly-mtg
LOCATION:OAK RUN’S ISLAND CLUB
CATEGORIES:Event
ATTACH;FMTTYPE=image/jpeg:https://acor.club/wp-content/uploads/2023/07/ACOR-Mtg-e1708356356178.jpg
END:VEVENT
END:VCALENDAR